BEGIN:VCALENDAR
VERSION:2.0
PRODID:-//Nemesis Adventure - ECPv6.15.20//NONSGML v1.0//EN
CALSCALE:GREGORIAN
METHOD:PUBLISH
X-WR-CALNAME:Nemesis Adventure
X-ORIGINAL-URL:https://nemesisadventure.com
X-WR-CALDESC:Eventos para Nemesis Adventure
REFRESH-INTERVAL;VALUE=DURATION:PT1H
X-Robots-Tag:noindex
X-PUBLISHED-TTL:PT1H
BEGIN:VTIMEZONE
TZID:America/New_York
BEGIN:DAYLIGHT
TZOFFSETFROM:-0500
TZOFFSETTO:-0400
TZNAME:EDT
DTSTART:20230312T070000
END:DAYLIGHT
BEGIN:STANDARD
TZOFFSETFROM:-0400
TZOFFSETTO:-0500
TZNAME:EST
DTSTART:20231105T060000
END:STANDARD
BEGIN:DAYLIGHT
TZOFFSETFROM:-0500
TZOFFSETTO:-0400
TZNAME:EDT
DTSTART:20240310T070000
END:DAYLIGHT
BEGIN:STANDARD
TZOFFSETFROM:-0400
TZOFFSETTO:-0500
TZNAME:EST
DTSTART:20241103T060000
END:STANDARD
BEGIN:DAYLIGHT
TZOFFSETFROM:-0500
TZOFFSETTO:-0400
TZNAME:EDT
DTSTART:20250309T070000
END:DAYLIGHT
BEGIN:STANDARD
TZOFFSETFROM:-0400
TZOFFSETTO:-0500
TZNAME:EST
DTSTART:20251102T060000
END:STANDARD
END:VTIMEZONE
BEGIN:VEVENT
DTSTART;VALUE=DATE:20240401
DTEND;VALUE=DATE:20240409
DTSTAMP:20260423T164734
CREATED:20240401T004404Z
LAST-MODIFIED:20240408T232846Z
UID:8620-1711929600-1712620799@nemesisadventure.com
SUMMARY:Cusco 8 days
DESCRIPTION:ADVENTURE TO PERU                                                    \nWonders of the Inca and Quechua Natives (History Journey)     \n08 DAYS ADVENTURE From CUSCO to CUSCO     \n(GOLD 10*) HISTORY – PHOTOGRAPHY – ARCHEOLOGY – MYSTERY                                 \nIs Like National Geographic adventure tour + more to see                               \nStarts from MARCH until October 2024 – 2025  (min. 2 people)
URL:https://nemesisadventure.com/event/cusco-8-days/
LOCATION:Cusco 8 days of adventure\, Cusco\, Cusco\, Cusco\, 08001\, Peru
CATEGORIES:Cusco
ATTACH;FMTTYPE=image/jpeg:https://nemesisadventure.com/wp-content/uploads/2024/02/423599773_369636256051945_2066297374636268866_n.jpg
END:VEVENT
BEGIN:VEVENT
DTSTART;VALUE=DATE:20240403
DTEND;VALUE=DATE:20240415
DTSTAMP:20260423T164734
CREATED:20240406T230743Z
LAST-MODIFIED:20240406T233036Z
UID:8710-1712102400-1713139199@nemesisadventure.com
SUMMARY:Lima/Cusco/Puno-12 Days
DESCRIPTION:Wonders of the Inca and Quechua Natives (History Journey)   \n12 DAYS ADVENTURE LIMA CUSCO PUNO  10* Star   \nHISTORY – PHOTOGRAPHY – ARCHEOLOGY – MYSTERY              \nIs Like National Geographic adventure tour + more to see                                    \nStarts from MARCH Until OCTOBER 2024 & 2025 (min. 2 people) \n\n\n 
URL:https://nemesisadventure.com/event/lima-cusco-puno-12-days/
LOCATION:Lima/Cusco/Puno-12 Days\, lima\, lima\, lima\, 00051\, Peru
ATTACH;FMTTYPE=image/jpeg:https://nemesisadventure.com/wp-content/uploads/2024/02/syzsmzyxbcm.jpg
ORGANIZER;CN="Lima/Cusco/Puno-12 Days":MAILTO:info@nemesisadventure.com
END:VEVENT
BEGIN:VEVENT
DTSTART;VALUE=DATE:20240411
DTEND;VALUE=DATE:20240420
DTSTAMP:20260423T164734
CREATED:20240404T001127Z
LAST-MODIFIED:20240404T001221Z
UID:8673-1712793600-1713571199@nemesisadventure.com
SUMMARY:cusco 8 days
DESCRIPTION:otoPress Timetable and Event Schedule is an all-around organizer plugin developed to help you create and manage online schedules for a single or multiple events\, customize the appearance of each event\, add date\, time\, description and display all the needed items in a carefull
URL:https://nemesisadventure.com/event/cusco-8-days-2/
LOCATION:Cusco 11- 18\, Cusco\, Cusco\, Cuzco\, 08001\, Peru
ATTACH;FMTTYPE=image/jpeg:https://nemesisadventure.com/wp-content/uploads/2024/03/412887913_7247603835302001_432195194804998556_n-300x225-1.jpg
ORGANIZER;CN="Cusco 8 dias":MAILTO:julio.paniuraloayza@gmail.com
END:VEVENT
BEGIN:VEVENT
DTSTART;VALUE=DATE:20240418
DTEND;VALUE=DATE:20240426
DTSTAMP:20260423T164734
CREATED:20240406T220927Z
LAST-MODIFIED:20240406T222500Z
UID:8684-1713398400-1714089599@nemesisadventure.com
SUMMARY:Cusco 8 days (18 – 25 )
DESCRIPTION:ADVENTURE TO PERU                                                    \nWonders of the Inca and Quechua Natives (History Journey)     \n08 DAYS ADVENTURE From CUSCO to CUSCO     \n(GOLD 10*) HISTORY – PHOTOGRAPHY – ARCHEOLOGY – MYSTERY                                 \nIs Like National Geographic adventure tour + more to see                               \nStarts from MARCH until October 2024 – 2025  (min. 2 people)
URL:https://nemesisadventure.com/event/cusco-8-days-18-25/
LOCATION:Cusco 8 days (18 – 25 )\, Cusco\, Cusco\, Cusco\, 08001\, Peru
ATTACH;FMTTYPE=image/jpeg:https://nemesisadventure.com/wp-content/uploads/2024/02/423599773_369636256051945_2066297374636268866_n.jpg
ORGANIZER;CN="Cusco 8 days (18 %E2%80%93 25 )":MAILTO:info@nemesisadventure.com
END:VEVENT
BEGIN:VEVENT
DTSTART;VALUE=DATE:20240425
DTEND;VALUE=DATE:20240503
DTSTAMP:20260423T164734
CREATED:20240406T223638Z
LAST-MODIFIED:20240406T223638Z
UID:8699-1714003200-1714694399@nemesisadventure.com
SUMMARY:Cusco 8 Days (25-02)
DESCRIPTION:Wonders of the Inca and Quechua Natives (History Journey)     \n08 DAYS ADVENTURE From CUSCO to CUSCO     \n(GOLD 10*) HISTORY – PHOTOGRAPHY – ARCHEOLOGY – MYSTERY                                 \nIs Like National Geographic adventure tour + more to see                               \nStarts from MARCH until October 2024 – 2025  (min. 2 people)
URL:https://nemesisadventure.com/event/cusco-8-days-25-02/
LOCATION:Cusco 8 days (18 – 25 )\, Cusco\, Cusco\, Cusco\, 08001\, Peru
ATTACH;FMTTYPE=image/jpeg:https://nemesisadventure.com/wp-content/uploads/2024/02/423599773_369636256051945_2066297374636268866_n.jpg
ORGANIZER;CN="Cusco 8 days (18 %E2%80%93 25 )":MAILTO:info@nemesisadventure.com
END:VEVENT
END:VCALENDAR